BEGIN:VCALENDAR
VERSION:2.0
PRODID:SchoolNow
CALSCALE:GREGORIAN
BEGIN:VEVENT
UID:8f2416fa-1e90-11ef-bcb7-0affe76a64bd
DTSTAMP:20260419T164007Z
SUMMARY:BOE Meeting
URL;VALUE=URI:https://www.mcdowell.k12.nc.us/calendar/6051789/boe-meeting
DTSTART:20260112T230000Z
DTEND:20260113T020000Z
END:VEVENT
END:VCALENDAR
