BEGIN:VCALENDAR
VERSION:2.0
PRODID:SchoolNow
CALSCALE:GREGORIAN
BEGIN:VEVENT
UID:45b8060e-2753-11ef-9f40-0a58a9feac02
DTSTAMP:20260419T103508Z
SUMMARY:BOE Meeting
URL;VALUE=URI:https://www.mcdowell.k12.nc.us/calendar/6104118/boe-meeting
DTSTART:20260209T230000Z
DTEND:20260210T020000Z
END:VEVENT
END:VCALENDAR
