BEGIN:VCALENDAR
VERSION:2.0
PRODID:SchoolNow
CALSCALE:GREGORIAN
BEGIN:VEVENT
UID:8a4b6f5c-8fd8-11ef-9556-0affd748daf7
DTSTAMP:20260419T103508Z
SUMMARY:BOE Meeting
URL;VALUE=URI:https://www.mcdowell.k12.nc.us/calendar/6870780/boe-meeting
DTSTART:20260608T220000Z
DTEND:20260609T010000Z
END:VEVENT
END:VCALENDAR
