BEGIN:VCALENDAR
VERSION:2.0
PRODID:SchoolNow
CALSCALE:GREGORIAN
BEGIN:VEVENT
UID:6ba4df02-a5f4-11ef-af44-0affdc66f07b
DTSTAMP:20260419T164007Z
SUMMARY:BOE Meeting
URL;VALUE=URI:https://www.mcdowell.k12.nc.us/calendar/7043475/boe-meeting
DTSTART:20260713T220000Z
DTEND:20260714T010000Z
END:VEVENT
END:VCALENDAR
