BEGIN:VCALENDAR
VERSION:2.0
PRODID:SchoolNow
CALSCALE:GREGORIAN
BEGIN:VEVENT
UID:bed1fbf8-454d-11f0-9237-022f865b8be5
DTSTAMP:20260419T164007Z
SUMMARY:BOE Meeting
URL;VALUE=URI:https://www.mcdowell.k12.nc.us/calendar/8275785/boe-meeting
DTSTART:20260810T220000Z
DTEND:20260811T010000Z
END:VEVENT
END:VCALENDAR
