BEGIN:VCALENDAR
VERSION:2.0
PRODID:SchoolNow
CALSCALE:GREGORIAN
BEGIN:VEVENT
UID:bed1fd4c-454d-11f0-89a8-022f865b8be5
DTSTAMP:20260419T164007Z
SUMMARY:BOE Meeting
URL;VALUE=URI:https://www.mcdowell.k12.nc.us/calendar/8275786/boe-meeting
DTSTART:20260914T220000Z
DTEND:20260915T010000Z
END:VEVENT
END:VCALENDAR
