BEGIN:VCALENDAR
VERSION:2.0
PRODID:SchoolNow
CALSCALE:GREGORIAN
BEGIN:VEVENT
UID:bed1fe78-454d-11f0-93a4-022f865b8be5
DTSTAMP:20260419T224507Z
SUMMARY:BOE Meeting
URL;VALUE=URI:https://www.mcdowell.k12.nc.us/calendar/8275787/boe-meeting
DTSTART:20261012T220000Z
DTEND:20261013T010000Z
END:VEVENT
END:VCALENDAR
