BEGIN:VCALENDAR
VERSION:2.0
PRODID:SchoolNow
CALSCALE:GREGORIAN
BEGIN:VEVENT
UID:bed200d0-454d-11f0-b497-022f865b8be5
DTSTAMP:20260419T224507Z
SUMMARY:BOE Meeting
URL;VALUE=URI:https://www.mcdowell.k12.nc.us/calendar/8275789/boe-meeting
DTSTART:20261214T230000Z
DTEND:20261215T020000Z
END:VEVENT
END:VCALENDAR
