BEGIN:VCALENDAR
VERSION:2.0
PRODID:SchoolNow
CALSCALE:GREGORIAN
BEGIN:VEVENT
UID:bed2022e-454d-11f0-be06-022f865b8be5
DTSTAMP:20260419T224507Z
SUMMARY:BOE Meeting
URL;VALUE=URI:https://www.mcdowell.k12.nc.us/calendar/8275790/boe-meeting
DTSTART:20270111T230000Z
DTEND:20270112T020000Z
END:VEVENT
END:VCALENDAR
