BEGIN:VCALENDAR
VERSION:2.0
PRODID:SchoolNow
CALSCALE:GREGORIAN
BEGIN:VEVENT
UID:bed20332-454d-11f0-ae32-022f865b8be5
DTSTAMP:20260420T045007Z
SUMMARY:BOE Meeting
URL;VALUE=URI:https://www.mcdowell.k12.nc.us/calendar/8275791/boe-meeting
DTSTART:20270208T230000Z
DTEND:20270209T020000Z
END:VEVENT
END:VCALENDAR
