BEGIN:VCALENDAR
VERSION:2.0
PRODID:SchoolNow
CALSCALE:GREGORIAN
BEGIN:VEVENT
UID:e24ba150-8ffe-11f0-8bc9-02df73c65d3d
DTSTAMP:20260420T045007Z
SUMMARY:BOE Meeting
URL;VALUE=URI:https://www.mcdowell.k12.nc.us/calendar/8613976/boe-meeting
DTSTART:20270308T230000Z
DTEND:20270309T020000Z
END:VEVENT
END:VCALENDAR
