BEGIN:VCALENDAR
VERSION:2.0
PRODID:SchoolNow
CALSCALE:GREGORIAN
BEGIN:VEVENT
UID:e24ba542-8ffe-11f0-9f0d-02df73c65d3d
DTSTAMP:20260420T045007Z
SUMMARY:BOE Meeting
URL;VALUE=URI:https://www.mcdowell.k12.nc.us/calendar/8613977/boe-meeting
DTSTART:20270412T220000Z
DTEND:20270413T010000Z
END:VEVENT
END:VCALENDAR
