BEGIN:VCALENDAR
VERSION:2.0
PRODID:SchoolNow
CALSCALE:GREGORIAN
BEGIN:VEVENT
UID:e0144488-9944-11f0-b784-0a58a9feac02
DTSTAMP:20260419T164007Z
SUMMARY:1/2 day for students
URL;VALUE=URI:https://www.mcdowell.k12.nc.us/calendar/8659505/1-2-day-for-s
 tudents
DTSTART;VALUE=DATE:20251219
DTEND;VALUE=DATE:20251220
END:VEVENT
END:VCALENDAR
