BEGIN:VCALENDAR
VERSION:2.0
PRODID:SchoolNow
CALSCALE:GREGORIAN
BEGIN:VEVENT
UID:e0144668-9944-11f0-8bd1-0a58a9feac02
DTSTAMP:20260419T164007Z
SUMMARY:No School
URL;VALUE=URI:https://www.mcdowell.k12.nc.us/calendar/8659507/no-school
DTSTART;VALUE=DATE:20251223
DTEND;VALUE=DATE:20251224
END:VEVENT
END:VCALENDAR
