BEGIN:VCALENDAR
VERSION:2.0
PRODID:SchoolNow
CALSCALE:GREGORIAN
BEGIN:VEVENT
UID:e014483e-9944-11f0-892a-0a58a9feac02
DTSTAMP:20260419T164007Z
SUMMARY:Holiday
URL;VALUE=URI:https://www.mcdowell.k12.nc.us/calendar/8659509/holiday
DTSTART;VALUE=DATE:20251225
DTEND;VALUE=DATE:20251226
END:VEVENT
END:VCALENDAR
