BEGIN:VCALENDAR
VERSION:2.0
PRODID:SchoolNow
CALSCALE:GREGORIAN
BEGIN:VEVENT
UID:e0144a0a-9944-11f0-9b25-0a58a9feac02
DTSTAMP:20260419T164007Z
SUMMARY:No School
URL;VALUE=URI:https://www.mcdowell.k12.nc.us/calendar/8659511/no-school
DTSTART;VALUE=DATE:20251229
DTEND;VALUE=DATE:20251230
END:VEVENT
END:VCALENDAR
