BEGIN:VCALENDAR
VERSION:2.0
PRODID:SchoolNow
CALSCALE:GREGORIAN
BEGIN:VEVENT
UID:e0144bd6-9944-11f0-b95a-0a58a9feac02
DTSTAMP:20260419T164007Z
SUMMARY:No School
URL;VALUE=URI:https://www.mcdowell.k12.nc.us/calendar/8659513/no-school
DTSTART;VALUE=DATE:20251231
DTEND;VALUE=DATE:20260101
END:VEVENT
END:VCALENDAR
