BEGIN:VCALENDAR
VERSION:2.0
PRODID:SchoolNow
CALSCALE:GREGORIAN
BEGIN:VEVENT
UID:c03ab832-b4e1-11f0-a141-0a58a9feac02
DTSTAMP:20260420T105507Z
SUMMARY:BOE Meeting
URL;VALUE=URI:https://www.mcdowell.k12.nc.us/calendar/8759321/boe-meeting
DTSTART:20270614T220000Z
DTEND:20270615T010000Z
END:VEVENT
END:VCALENDAR
