BEGIN:VCALENDAR
VERSION:2.0
PRODID:SchoolNow
CALSCALE:GREGORIAN
BEGIN:VEVENT
UID:2d23f822-c03c-11f0-a880-0a58a9feac02
DTSTAMP:20260420T105507Z
SUMMARY:BOE Meeting
URL;VALUE=URI:https://www.mcdowell.k12.nc.us/calendar/8792802/boe-meeting
DTSTART:20270712T220000Z
DTEND:20270713T010000Z
END:VEVENT
END:VCALENDAR
