BEGIN:VCALENDAR
VERSION:2.0
PRODID:SchoolNow
CALSCALE:GREGORIAN
BEGIN:VEVENT
UID:1b2eed3e-d559-11f0-93f8-025d34a9e271
DTSTAMP:20260420T170007Z
SUMMARY:BOE Meeting
URL;VALUE=URI:https://www.mcdowell.k12.nc.us/calendar/8820865/boe-meeting
DTSTART:20270809T220000Z
DTEND:20270810T010000Z
END:VEVENT
END:VCALENDAR
