BEGIN:VCALENDAR
VERSION:2.0
PRODID:SchoolNow
CALSCALE:GREGORIAN
BEGIN:VEVENT
UID:d1b6ce24-fc59-11f0-8b78-0a58a9feac02
DTSTAMP:20260419T164007Z
SUMMARY:Holiday - No School
URL;VALUE=URI:https://www.mcdowell.k12.nc.us/calendar/8845585/holiday-no-sc
 hool
DTSTART;VALUE=DATE:20260119
DTEND;VALUE=DATE:20260120
END:VEVENT
END:VCALENDAR
