BEGIN:VCALENDAR
VERSION:2.0
PRODID:SchoolNow
CALSCALE:GREGORIAN
BEGIN:VEVENT
UID:d1b6cf50-fc59-11f0-acd5-0a58a9feac02
DTSTAMP:20260419T103508Z
SUMMARY:Last Day / Half Day
URL;VALUE=URI:https://www.mcdowell.k12.nc.us/calendar/8845586/last-day-half
 -day
DTSTART;VALUE=DATE:20260605
DTEND;VALUE=DATE:20260606
END:VEVENT
END:VCALENDAR
