BEGIN:VCALENDAR
VERSION:2.0
PRODID:SchoolNow
CALSCALE:GREGORIAN
BEGIN:VEVENT
UID:d1b6d266-fc59-11f0-9b4f-0a58a9feac02
DTSTAMP:20260420T170007Z
SUMMARY:BOE Meeting
URL;VALUE=URI:https://www.mcdowell.k12.nc.us/calendar/8845587/boe-meeting
DTSTART:20270913T220000Z
DTEND:20270914T010000Z
END:VEVENT
END:VCALENDAR
