BEGIN:VCALENDAR
VERSION:2.0
PRODID:SchoolNow
CALSCALE:GREGORIAN
BEGIN:VEVENT
UID:5d2d6e3c-07b2-11f1-ae9d-0a58a9feac02
DTSTAMP:20260420T170007Z
SUMMARY:BOE Meeting
URL;VALUE=URI:https://www.mcdowell.k12.nc.us/calendar/8853623/boe-meeting
DTSTART:20271011T220000Z
DTEND:20271012T010000Z
END:VEVENT
END:VCALENDAR
