BEGIN:VCALENDAR
VERSION:2.0
PRODID:SchoolNow
CALSCALE:GREGORIAN
BEGIN:VEVENT
UID:e04163d8-1b66-11f1-9b17-0a58a9feac02
DTSTAMP:20260420T230507Z
SUMMARY:BOE Meeting
URL;VALUE=URI:https://www.mcdowell.k12.nc.us/calendar/8902947/boe-meeting
DTSTART:20271108T230000Z
DTEND:20271109T020000Z
END:VEVENT
END:VCALENDAR
