BEGIN:VCALENDAR
VERSION:2.0
PRODID:SchoolNow
CALSCALE:GREGORIAN
BEGIN:VEVENT
UID:5acd42e0-37ad-11f1-b1ec-02941724b903
DTSTAMP:20260420T230507Z
SUMMARY:BOE Meeting
URL;VALUE=URI:https://www.mcdowell.k12.nc.us/calendar/8992207/boe-meeting
DTSTART:20271213T230000Z
DTEND:20271214T020000Z
END:VEVENT
END:VCALENDAR
