BEGIN:VCALENDAR
VERSION:2.0
PRODID:SchoolNow
CALSCALE:GREGORIAN
BEGIN:VEVENT
UID:cb89de72-fc56-11f0-848c-0a58a9feac02
DTSTAMP:20260419T101507Z
SUMMARY:Holiday
URL;VALUE=URI:https://www.mcdowell.k12.nc.us/egms/calendar/8845576/holiday
DTSTART;VALUE=DATE:20260525
DTEND;VALUE=DATE:20260526
END:VEVENT
END:VCALENDAR
