BEGIN:VCALENDAR
VERSION:2.0
PRODID:SchoolNow
CALSCALE:GREGORIAN
BEGIN:VEVENT
UID:6949c442-4c6c-11f0-ad7e-0a58a9feac02
DTSTAMP:20250618T174815Z
SUMMARY:New Student Summer Bridge
URL;VALUE=URI:https://www.mcdowell.k12.nc.us/fcs/calendar/8324432/new-stude
 nt-summer-bridge
DTSTART:20250728T113000Z
DTEND:20250731T183000Z
ATTACH;FILENAME=Flyer - Summer Bridge.png;FMTTYPE=image/png:https://campuss
 uite-storage.s3.amazonaws.com/prod/1559039/252d940a-b7a2-11ea-a606-121cb31
 c8405/2970788/5aef07fe-4c6c-11f0-8cac-0affe33dc041/file/Flyer - Summer Bri
 dge.png
END:VEVENT
END:VCALENDAR
