BEGIN:VCALENDAR
VERSION:2.0
PRODID:SchoolNow
CALSCALE:GREGORIAN
BEGIN:VEVENT
UID:1f1ef73a-39be-11f1-8cd4-0a58a9feac02
DTSTAMP:20260420T010551Z
SUMMARY:5th Grade Science EOG
URL;VALUE=URI:https://www.mcdowell.k12.nc.us/gwe/calendar/8998258/5th-grade
 -science-eog
DTSTART;VALUE=DATE:20260526
DTEND;VALUE=DATE:20260527
END:VEVENT
END:VCALENDAR
