BEGIN:VCALENDAR
VERSION:2.0
PRODID:SchoolNow
CALSCALE:GREGORIAN
BEGIN:VEVENT
UID:1f1f0234-39be-11f1-aab9-0a58a9feac02
DTSTAMP:20260420T010551Z
SUMMARY:Field Day
URL;VALUE=URI:https://www.mcdowell.k12.nc.us/gwe/calendar/8998259/field-day
DTSTART;VALUE=DATE:20260515
DTEND;VALUE=DATE:20260516
END:VEVENT
END:VCALENDAR
