BEGIN:VCALENDAR
VERSION:2.0
PRODID:SchoolNow
CALSCALE:GREGORIAN
BEGIN:VEVENT
UID:1f1f1396-39be-11f1-9754-0a58a9feac02
DTSTAMP:20260420T010551Z
SUMMARY:School Dismiss
URL;VALUE=URI:https://www.mcdowell.k12.nc.us/gwe/calendar/8998262/school-di
 smiss
DTSTART:20260508T150000Z
DTEND:20260508T160000Z
END:VEVENT
END:VCALENDAR
