BEGIN:VCALENDAR
VERSION:2.0
PRODID:SchoolNow
CALSCALE:GREGORIAN
BEGIN:VEVENT
UID:30458fdc-4133-11ee-a399-0a58a9feac02
DTSTAMP:20240828T182136Z
SUMMARY:School Improvement Meeting
URL;VALUE=URI:https://www.mcdowell.k12.nc.us/mes/calendar/4610391/school-im
 provement-meeting
DTSTART:20240513T191500Z
DTEND:20240513T201500Z
END:VEVENT
END:VCALENDAR
