BEGIN:VCALENDAR
VERSION:2.0
PRODID:SchoolNow
CALSCALE:GREGORIAN
BEGIN:VEVENT
UID:2457acfe-4166-11ee-ab25-0a58a9feac02
DTSTAMP:20240828T182136Z
SUMMARY:School Improvement Meeting
URL;VALUE=URI:https://www.mcdowell.k12.nc.us/mes/calendar/4611978/school-im
 provement-meeting
DTSTART:20240528T191500Z
DTEND:20240528T201500Z
END:VEVENT
END:VCALENDAR
