BEGIN:VCALENDAR
VERSION:2.0
PRODID:SchoolNow
CALSCALE:GREGORIAN
BEGIN:VEVENT
UID:2458de08-4166-11ee-9b14-0a58a9feac02
DTSTAMP:20240828T182136Z
SUMMARY:No School - Holiday
URL;VALUE=URI:https://www.mcdowell.k12.nc.us/mes/calendar/4611992/no-school
 -holiday
DTSTART;VALUE=DATE:20240527
DTEND;VALUE=DATE:20240528
END:VEVENT
END:VCALENDAR
