BEGIN:VCALENDAR
VERSION:2.0
PRODID:SchoolNow
CALSCALE:GREGORIAN
BEGIN:VEVENT
UID:2458ea2e-4166-11ee-94c8-0a58a9feac02
DTSTAMP:20240828T182136Z
SUMMARY:1/2 Day - Last Day of School
URL;VALUE=URI:https://www.mcdowell.k12.nc.us/mes/calendar/4611993/1-2-day-l
 ast-day-of-school
DTSTART;VALUE=DATE:20240607
DTEND;VALUE=DATE:20240608
END:VEVENT
END:VCALENDAR
