BEGIN:VCALENDAR
VERSION:2.0
PRODID:SchoolNow
CALSCALE:GREGORIAN
BEGIN:VEVENT
UID:d58211ac-f095-11ee-b2bf-02c6d07b280f
DTSTAMP:20240402T020942Z
SUMMARY:Bigfoot 5K Dash '24
URL;VALUE=URI:https://www.mcdowell.k12.nc.us/mes/calendar/5686835/bigfoot-5
 k-dash-24
DTSTART:20240518T120000Z
DTEND:20240519T020000Z
END:VEVENT
END:VCALENDAR
