BEGIN:VCALENDAR
VERSION:2.0
PRODID:SchoolNow
CALSCALE:GREGORIAN
BEGIN:VEVENT
UID:5c594f9e-656a-11ef-b2af-02b6c7bba7fd
DTSTAMP:20240828T182136Z
SUMMARY:School Improvement Meeting
URL;VALUE=URI:https://www.mcdowell.k12.nc.us/mes/calendar/6475504/school-im
 provement-meeting
DTSTART:20240903T191500Z
DTEND:20240903T201500Z
END:VEVENT
END:VCALENDAR
