BEGIN:VCALENDAR
VERSION:2.0
PRODID:SchoolNow
CALSCALE:GREGORIAN
BEGIN:VEVENT
UID:5c5956c4-656a-11ef-ae19-02b6c7bba7fd
DTSTAMP:20240828T182136Z
SUMMARY:School Improvement Meeting
URL;VALUE=URI:https://www.mcdowell.k12.nc.us/mes/calendar/6475507/school-im
 provement-meeting
DTSTART:20241021T191500Z
DTEND:20241021T201500Z
END:VEVENT
END:VCALENDAR
