BEGIN:VCALENDAR
VERSION:2.0
PRODID:SchoolNow
CALSCALE:GREGORIAN
BEGIN:VEVENT
UID:5c5958c2-656a-11ef-8095-02b6c7bba7fd
DTSTAMP:20240828T182136Z
SUMMARY:School Improvement Meeting
URL;VALUE=URI:https://www.mcdowell.k12.nc.us/mes/calendar/6475509/school-im
 provement-meeting
DTSTART:20241118T201500Z
DTEND:20241118T211500Z
END:VEVENT
END:VCALENDAR
