BEGIN:VCALENDAR
VERSION:2.0
PRODID:SchoolNow
CALSCALE:GREGORIAN
BEGIN:VEVENT
UID:5c5959bc-656a-11ef-8339-02b6c7bba7fd
DTSTAMP:20240828T182136Z
SUMMARY:School Improvement Meeting
URL;VALUE=URI:https://www.mcdowell.k12.nc.us/mes/calendar/6475510/school-im
 provement-meeting
DTSTART:20241202T201500Z
DTEND:20241202T211500Z
END:VEVENT
END:VCALENDAR
