BEGIN:VCALENDAR
VERSION:2.0
PRODID:SchoolNow
CALSCALE:GREGORIAN
BEGIN:VEVENT
UID:5c595ab6-656a-11ef-b734-02b6c7bba7fd
DTSTAMP:20240828T182136Z
SUMMARY:School Improvement Meeting
URL;VALUE=URI:https://www.mcdowell.k12.nc.us/mes/calendar/6475511/school-im
 provement-meeting
DTSTART:20241216T201500Z
DTEND:20241216T211500Z
END:VEVENT
END:VCALENDAR
