BEGIN:VCALENDAR
VERSION:2.0
PRODID:SchoolNow
CALSCALE:GREGORIAN
BEGIN:VEVENT
UID:5c596b50-656a-11ef-96ae-02b6c7bba7fd
DTSTAMP:20240828T182136Z
SUMMARY:School Improvement Meeting
URL;VALUE=URI:https://www.mcdowell.k12.nc.us/mes/calendar/6475514/school-im
 provement-meeting
DTSTART:20250203T201500Z
DTEND:20250203T211500Z
END:VEVENT
END:VCALENDAR
