BEGIN:VCALENDAR
VERSION:2.0
PRODID:SchoolNow
CALSCALE:GREGORIAN
BEGIN:VEVENT
UID:5c596ff6-656a-11ef-b0a1-02b6c7bba7fd
DTSTAMP:20240828T182136Z
SUMMARY:School Improvement Meeting
URL;VALUE=URI:https://www.mcdowell.k12.nc.us/mes/calendar/6475517/school-im
 provement-meeting
DTSTART:20250317T191500Z
DTEND:20250317T201500Z
END:VEVENT
END:VCALENDAR
