BEGIN:VCALENDAR
VERSION:2.0
PRODID:SchoolNow
CALSCALE:GREGORIAN
BEGIN:VEVENT
UID:5c597640-656a-11ef-bbe3-02b6c7bba7fd
DTSTAMP:20240828T182136Z
SUMMARY:School Improvement Meeting
URL;VALUE=URI:https://www.mcdowell.k12.nc.us/mes/calendar/6475522/school-im
 provement-meeting
DTSTART:20250602T191500Z
DTEND:20250602T201500Z
END:VEVENT
END:VCALENDAR
