BEGIN:VCALENDAR
VERSION:2.0
PRODID:SchoolNow
CALSCALE:GREGORIAN
BEGIN:VEVENT
UID:368d740c-7077-11f0-b781-0a58a9feac02
DTSTAMP:20250803T200659Z
SUMMARY:MES Meet The Teacher
LOCATION:Marion Elementary School
URL;VALUE=URI:https://www.mcdowell.k12.nc.us/mes/calendar/8467390/mes-meet-
 the-teacher
DTSTART:20250821T190000Z
DTEND:20250821T220000Z
END:VEVENT
END:VCALENDAR
