BEGIN:VCALENDAR
VERSION:2.0
PRODID:SchoolNow
CALSCALE:GREGORIAN
BEGIN:VEVENT
UID:82af3f5a-7090-11f0-9626-0affee0271f9
DTSTAMP:20250807T024234Z
SUMMARY:First Day of School 2025 - 2026
LOCATION:Marion Elementary School
URL;VALUE=URI:https://www.mcdowell.k12.nc.us/mes/calendar/8467790/first-day
 -of-school-2025-20256
DTSTART:20250825T113000Z
DTEND:20250825T184500Z
END:VEVENT
END:VCALENDAR
