BEGIN:VCALENDAR
VERSION:2.0
PRODID:SchoolNow
CALSCALE:GREGORIAN
BEGIN:VEVENT
UID:b1db5a5e-733b-11f0-8b63-02a999df172f
DTSTAMP:20250807T030747Z
SUMMARY:School Improvement Meeting
URL;VALUE=URI:https://www.mcdowell.k12.nc.us/mes/calendar/8477951/school-im
 provement-meeting
DTSTART:20250908T191500Z
DTEND:20250908T201500Z
END:VEVENT
END:VCALENDAR
