BEGIN:VCALENDAR
VERSION:2.0
PRODID:SchoolNow
CALSCALE:GREGORIAN
BEGIN:VEVENT
UID:e3e1bbce-733b-11f0-a4ea-02a999df172f
DTSTAMP:20250807T032153Z
SUMMARY:School Improvement Meeting (Committee Meetings)
URL;VALUE=URI:https://www.mcdowell.k12.nc.us/mes/calendar/8477952/school-im
 provement-meeting-committee-meetings
DTSTART:20250922T191500Z
DTEND:20250922T201500Z
END:VEVENT
END:VCALENDAR
