BEGIN:VCALENDAR
VERSION:2.0
PRODID:SchoolNow
CALSCALE:GREGORIAN
BEGIN:VEVENT
UID:12361baa-733c-11f0-b871-0a58a9feac02
DTSTAMP:20250807T031028Z
SUMMARY:School Improvement Meeting
URL;VALUE=URI:https://www.mcdowell.k12.nc.us/mes/calendar/8477953/school-im
 provement-meeting
DTSTART:20251013T191500Z
DTEND:20251013T201500Z
END:VEVENT
END:VCALENDAR
