BEGIN:VCALENDAR
VERSION:2.0
PRODID:SchoolNow
CALSCALE:GREGORIAN
BEGIN:VEVENT
UID:2e97ee2c-733c-11f0-94e7-0a58a9feac02
DTSTAMP:20250807T031116Z
SUMMARY:School Improvement Meeting (Committee Meetings)
URL;VALUE=URI:https://www.mcdowell.k12.nc.us/mes/calendar/8477954/school-im
 provement-meeting-committee-meetings
DTSTART:20251027T191500Z
DTEND:20251027T201500Z
END:VEVENT
END:VCALENDAR
